Package: flowWorkspace Version: 4.23.0 Command: /home/biocbuild/bbs-3.23-bioc/R/bin/R CMD check --install=check:flowWorkspace.install-out.txt --library=/home/biocbuild/bbs-3.23-bioc/R/site-library --timings flowWorkspace_4.23.0.tar.gz StartedAt: 2025-11-11 23:41:42 -0500 (Tue, 11 Nov 2025) EndedAt: 2025-11-11 23:45:10 -0500 (Tue, 11 Nov 2025) EllapsedTime: 208.4 seconds RetCode: 0 Status: WARNINGS CheckDir: flowWorkspace.Rcheck Warnings: 5