Package: flowWorkspace Version: 4.23.0 Command: /home/biocbuild/bbs-3.23-bioc/R/bin/R CMD build --keep-empty-dirs --no-resave-data flowWorkspace StartedAt: 2025-11-11 17:41:53 -0500 (Tue, 11 Nov 2025) EndedAt: 2025-11-11 17:44:36 -0500 (Tue, 11 Nov 2025) EllapsedTime: 163.3 seconds RetCode: 0 Status: OK PackageFile: flowWorkspace_4.23.0.tar.gz PackageFileSize: 5.081 MiB