Package: flowWorkspace Version: 4.23.0 Command: /Library/Frameworks/R.framework/Resources/bin/R CMD INSTALL flowWorkspace StartedAt: 2025-11-13 15:08:17 -0500 (Thu, 13 Nov 2025) EndedAt: 2025-11-13 15:08:52 -0500 (Thu, 13 Nov 2025) EllapsedTime: 34.8 seconds RetCode: 0 Status: OK