Package: flowWorkspace Version: 4.23.0 Command: /Library/Frameworks/R.framework/Resources/bin/R CMD build --keep-empty-dirs --no-resave-data flowWorkspace StartedAt: 2025-11-13 16:26:19 -0500 (Thu, 13 Nov 2025) EndedAt: 2025-11-13 16:27:08 -0500 (Thu, 13 Nov 2025) EllapsedTime: 49.6 seconds RetCode: 0 Status: OK PackageFile: flowWorkspace_4.23.0.tar.gz PackageFileSize: 5.7 MiB