Package: flowViz Version: 1.75.0 Command: /home/biocbuild/bbs-3.23-bioc/R/bin/R CMD build --keep-empty-dirs --no-resave-data flowViz StartedAt: 2025-11-11 17:41:47 -0500 (Tue, 11 Nov 2025) EndedAt: 2025-11-11 17:43:01 -0500 (Tue, 11 Nov 2025) EllapsedTime: 74.2 seconds RetCode: 0 Status: OK PackageFile: flowViz_1.75.0.tar.gz PackageFileSize: 989.7 KiB