Package: flowViz Version: 1.75.0 Command: /Library/Frameworks/R.framework/Resources/bin/R CMD INSTALL flowViz StartedAt: 2025-11-12 15:22:27 -0500 (Wed, 12 Nov 2025) EndedAt: 2025-11-12 15:22:27 -0500 (Wed, 12 Nov 2025) EllapsedTime: 0.7 seconds RetCode: 1 Status: ERROR