############################################################################## ############################################################################## ### ### Running command: ### ### /Library/Frameworks/R.framework/Resources/bin/R CMD build --keep-empty-dirs --no-resave-data flowViz ### ############################################################################## ############################################################################## * checking for file ‘flowViz/DESCRIPTION’ ... OK * preparing ‘flowViz’: * checking DESCRIPTION meta-information ... OK * installing the package (it is needed to build vignettes) ----------------------------------- ERROR: dependency ‘flowCore’ is not available for package ‘flowViz’ Perhaps try a variation of: install.packages('flowCore') * removing ‘/private/var/folders/r0/l4fjk6cj5xj0j3brt4bplpl40000gt/T/RtmphGE3TS/Rinstf197453fc251/flowViz’ ----------------------------------- ERROR: package installation failed