Package: flowVS Version: 1.43.0 Command: /home/biocbuild/bbs-3.23-bioc/R/bin/R CMD build --keep-empty-dirs --no-resave-data flowVS StartedAt: 2025-11-26 17:39:36 -0500 (Wed, 26 Nov 2025) EndedAt: 2025-11-26 17:41:37 -0500 (Wed, 26 Nov 2025) EllapsedTime: 121.2 seconds RetCode: 0 Status: OK PackageFile: flowVS_1.43.0.tar.gz PackageFileSize: 3.699 MiB