Package: flowTrans Version: 1.63.0 Command: /home/biocbuild/bbs-3.23-bioc/R/bin/R CMD build --keep-empty-dirs --no-resave-data flowTrans StartedAt: 2025-11-13 17:39:01 -0500 (Thu, 13 Nov 2025) EndedAt: 2025-11-13 17:39:21 -0500 (Thu, 13 Nov 2025) EllapsedTime: 20.0 seconds RetCode: 0 Status: OK PackageFile: flowTrans_1.63.0.tar.gz PackageFileSize: 480.7 KiB