Package: flowTrans Version: 1.63.0 Command: /Library/Frameworks/R.framework/Resources/bin/R CMD INSTALL flowTrans StartedAt: 2025-11-13 15:11:28 -0500 (Thu, 13 Nov 2025) EndedAt: 2025-11-13 15:11:32 -0500 (Thu, 13 Nov 2025) EllapsedTime: 3.2 seconds RetCode: 0 Status: OK