Package: flowTrans Version: 1.63.0 Command: /Library/Frameworks/R.framework/Resources/bin/R CMD build --keep-empty-dirs --no-resave-data flowTrans StartedAt: 2025-11-13 16:26:14 -0500 (Thu, 13 Nov 2025) EndedAt: 2025-11-13 16:26:23 -0500 (Thu, 13 Nov 2025) EllapsedTime: 9.1 seconds RetCode: 0 Status: OK PackageFile: flowTrans_1.63.0.tar.gz PackageFileSize: 480.8 KiB