Package: flowTrans Version: 1.63.0 Maintainer: Greg Finak MaintainerEmail: gfinak at fredhutch.org git_url: https://git.bioconductor.org/packages/flowTrans git_branch: devel git_last_commit: 6e8f2c2 git_last_commit_date: 2025-10-29 10:05:05 -0500 (Wed, 29 Oct 2025)