Package: flowTime Version: 1.35.0 Command: /home/biocbuild/bbs-3.23-bioc/R/bin/R CMD INSTALL flowTime StartedAt: 2025-11-14 15:14:31 -0500 (Fri, 14 Nov 2025) EndedAt: 2025-11-14 15:14:39 -0500 (Fri, 14 Nov 2025) EllapsedTime: 8.0 seconds RetCode: 0 Status: OK