Package: flowStats Version: 4.23.0 Command: /Library/Frameworks/R.framework/Resources/bin/R CMD INSTALL flowStats StartedAt: 2025-11-13 15:10:02 -0500 (Thu, 13 Nov 2025) EndedAt: 2025-11-13 15:10:10 -0500 (Thu, 13 Nov 2025) EllapsedTime: 8.8 seconds RetCode: 0 Status: OK