Package: flowStats Version: 4.23.0 Command: rm -rf flowStats.buildbin-libdir && mkdir flowStats.buildbin-libdir && /Users/biocbuild/BBS/utils/build-universal.sh flowStats_4.23.0.tar.gz /Library/Frameworks/R.framework/Resources/bin/R flowStats.buildbin-libdir StartedAt: 2025-11-14 23:33:05 -0500 (Fri, 14 Nov 2025) EndedAt: 2025-11-14 23:33:17 -0500 (Fri, 14 Nov 2025) EllapsedTime: 12.3 seconds RetCode: 0 Status: OK PackageFile: flowStats_4.23.0.tgz PackageFileSize: 11.7 MiB