Package: flowPlots Version: 1.59.0 Maintainer: N. Hawkins MaintainerEmail: hawkins at fhcrc.org git_url: https://git.bioconductor.org/packages/flowPlots git_branch: devel git_last_commit: bf4f747 git_last_commit_date: 2025-10-29 10:07:03 -0500 (Wed, 29 Oct 2025)