Package: flowPloidy Version: 1.37.0 Command: /home/biocbuild/bbs-3.23-bioc/R/bin/R CMD INSTALL flowPloidy StartedAt: 2025-11-14 15:14:56 -0500 (Fri, 14 Nov 2025) EndedAt: 2025-11-14 15:15:06 -0500 (Fri, 14 Nov 2025) EllapsedTime: 9.6 seconds RetCode: 0 Status: OK