Package: flowPloidy Version: 1.37.0 Maintainer: Tyler Smith MaintainerEmail: tyler at plantarum.ca git_url: https://git.bioconductor.org/packages/flowPloidy git_branch: devel git_last_commit: 8a0ccac git_last_commit_date: 2025-10-29 10:34:52 -0500 (Wed, 29 Oct 2025)