Package: flowMerge Version: 2.59.0 Command: /home/biocbuild/bbs-3.23-bioc/R/bin/R CMD INSTALL flowMerge StartedAt: 2025-11-11 16:00:56 -0500 (Tue, 11 Nov 2025) EndedAt: 2025-11-11 16:01:15 -0500 (Tue, 11 Nov 2025) EllapsedTime: 19.5 seconds RetCode: 0 Status: OK