############################################################################## ############################################################################## ### ### Running command: ### ### /Library/Frameworks/R.framework/Resources/bin/R CMD INSTALL flowMerge ### ############################################################################## ############################################################################## * installing to library ‘/Library/Frameworks/R.framework/Versions/4.6-arm64/Resources/library’ ERROR: dependencies ‘flowClust’, ‘flowCore’ are not available for package ‘flowMerge’ Perhaps try a variation of: install.packages(c('flowClust', 'flowCore')) * removing ‘/Library/Frameworks/R.framework/Versions/4.6-arm64/Resources/library/flowMerge’