Package: flowMerge Version: 2.59.0 Command: /Library/Frameworks/R.framework/Resources/bin/R CMD build --keep-empty-dirs --no-resave-data flowMerge StartedAt: 2025-11-13 16:25:50 -0500 (Thu, 13 Nov 2025) EndedAt: 2025-11-13 16:26:12 -0500 (Thu, 13 Nov 2025) EllapsedTime: 21.2 seconds RetCode: 0 Status: OK PackageFile: flowMerge_2.59.0.tar.gz PackageFileSize: 630.9 KiB