############################################################################## ############################################################################## ### ### Running command: ### ### /Library/Frameworks/R.framework/Resources/bin/R CMD build --keep-empty-dirs --no-resave-data flowMerge ### ############################################################################## ############################################################################## * checking for file ‘flowMerge/DESCRIPTION’ ... OK * preparing ‘flowMerge’: * checking DESCRIPTION meta-information ... OK * installing the package (it is needed to build vignettes) ----------------------------------- ERROR: dependencies ‘flowClust’, ‘flowCore’ are not available for package ‘flowMerge’ Perhaps try a variation of: install.packages(c('flowClust', 'flowCore')) * removing ‘/private/var/folders/r0/l4fjk6cj5xj0j3brt4bplpl40000gt/T/RtmpcLqei8/Rinstec7552c90478/flowMerge’ ----------------------------------- ERROR: package installation failed