Package: flowMerge Version: 2.59.0 Maintainer: Greg Finak MaintainerEmail: gfinak at fhcrc.org git_url: https://git.bioconductor.org/packages/flowMerge git_branch: devel git_last_commit: 07705b4 git_last_commit_date: 2025-10-29 10:03:02 -0500 (Wed, 29 Oct 2025)