Package: flowMeans Version: 1.71.0 Command: /home/biocbuild/bbs-3.23-bioc/R/bin/R CMD INSTALL flowMeans StartedAt: 2025-11-13 15:13:36 -0500 (Thu, 13 Nov 2025) EndedAt: 2025-11-13 15:13:50 -0500 (Thu, 13 Nov 2025) EllapsedTime: 14.2 seconds RetCode: 0 Status: OK