Package: flowMeans Version: 1.71.0 Command: /home/biocbuild/bbs-3.23-bioc/R/bin/R CMD build --keep-empty-dirs --no-resave-data flowMeans StartedAt: 2025-11-13 17:38:20 -0500 (Thu, 13 Nov 2025) EndedAt: 2025-11-13 17:38:45 -0500 (Thu, 13 Nov 2025) EllapsedTime: 25.0 seconds RetCode: 0 Status: OK PackageFile: flowMeans_1.71.0.tar.gz PackageFileSize: 3.284 MiB