Package: flowMeans Version: 1.71.0 Command: /Library/Frameworks/R.framework/Resources/bin/R CMD INSTALL flowMeans StartedAt: 2025-11-13 15:07:17 -0500 (Thu, 13 Nov 2025) EndedAt: 2025-11-13 15:07:24 -0500 (Thu, 13 Nov 2025) EllapsedTime: 7.2 seconds RetCode: 0 Status: OK