Package: flowMeans Version: 1.71.0 Command: /Library/Frameworks/R.framework/Resources/bin/R CMD build --keep-empty-dirs --no-resave-data flowMeans StartedAt: 2025-11-13 16:25:48 -0500 (Thu, 13 Nov 2025) EndedAt: 2025-11-13 16:26:03 -0500 (Thu, 13 Nov 2025) EllapsedTime: 14.2 seconds RetCode: 0 Status: OK PackageFile: flowMeans_1.71.0.tar.gz PackageFileSize: 3.284 MiB