Package: flowMeans Version: 1.71.0 Maintainer: Nima Aghaeepour MaintainerEmail: naghaeep at gmail.com git_url: https://git.bioconductor.org/packages/flowMeans git_branch: devel git_last_commit: b1307fd git_last_commit_date: 2025-10-29 10:04:53 -0500 (Wed, 29 Oct 2025)