Package: flowMatch Version: 1.47.0 Command: /home/biocbuild/bbs-3.23-bioc/R/bin/R CMD build --keep-empty-dirs --no-resave-data flowMatch StartedAt: 2025-11-13 17:38:20 -0500 (Thu, 13 Nov 2025) EndedAt: 2025-11-13 17:39:01 -0500 (Thu, 13 Nov 2025) EllapsedTime: 41.1 seconds RetCode: 0 Status: OK PackageFile: flowMatch_1.47.0.tar.gz PackageFileSize: 3.676 MiB