Package: flowMatch Version: 1.47.0 Command: /Library/Frameworks/R.framework/Resources/bin/R CMD build --keep-empty-dirs --no-resave-data flowMatch StartedAt: 2025-11-13 16:25:48 -0500 (Thu, 13 Nov 2025) EndedAt: 2025-11-13 16:26:07 -0500 (Thu, 13 Nov 2025) EllapsedTime: 18.2 seconds RetCode: 0 Status: OK PackageFile: flowMatch_1.47.0.tar.gz PackageFileSize: 3.676 MiB