Package: flowMatch Version: 1.47.0 Maintainer: Ariful Azad MaintainerEmail: azad at lbl.gov git_url: https://git.bioconductor.org/packages/flowMatch git_branch: devel git_last_commit: 58dd401 git_last_commit_date: 2025-10-29 10:17:27 -0500 (Wed, 29 Oct 2025)