Package: flowGate Version: 1.11.0 Command: /Library/Frameworks/R.framework/Resources/bin/R CMD INSTALL flowGate StartedAt: 2025-11-13 15:10:04 -0500 (Thu, 13 Nov 2025) EndedAt: 2025-11-13 15:10:11 -0500 (Thu, 13 Nov 2025) EllapsedTime: 6.5 seconds RetCode: 0 Status: OK