Package: flowGate Version: 1.11.0 Command: /Library/Frameworks/R.framework/Resources/bin/R CMD build --keep-empty-dirs --no-resave-data flowGate StartedAt: 2025-11-13 16:25:35 -0500 (Thu, 13 Nov 2025) EndedAt: 2025-11-13 16:25:48 -0500 (Thu, 13 Nov 2025) EllapsedTime: 13.2 seconds RetCode: 0 Status: OK PackageFile: flowGate_1.11.0.tar.gz PackageFileSize: 2.405 MiB