Package: flowGate Version: 1.11.0 Maintainer: Andrew Wight MaintainerEmail: andrew.wight10 at gmail.com git_url: https://git.bioconductor.org/packages/flowGate git_branch: devel git_last_commit: 8396c4e git_last_commit_date: 2025-10-29 11:21:45 -0500 (Wed, 29 Oct 2025)