Package: flowFP Version: 1.69.0 Command: /home/biocbuild/bbs-3.23-bioc/R/bin/R CMD INSTALL flowFP StartedAt: 2025-11-11 15:17:55 -0500 (Tue, 11 Nov 2025) EndedAt: 2025-11-11 15:18:08 -0500 (Tue, 11 Nov 2025) EllapsedTime: 12.1 seconds RetCode: 0 Status: OK