Package: flowFP Version: 1.69.0 Command: /Library/Frameworks/R.framework/Resources/bin/R CMD INSTALL flowFP StartedAt: 2025-11-12 15:22:31 -0500 (Wed, 12 Nov 2025) EndedAt: 2025-11-12 15:22:32 -0500 (Wed, 12 Nov 2025) EllapsedTime: 0.2 seconds RetCode: 1 Status: ERROR