############################################################################## ############################################################################## ### ### Running command: ### ### /Library/Frameworks/R.framework/Resources/bin/R CMD INSTALL flowFP ### ############################################################################## ############################################################################## * installing to library ‘/Library/Frameworks/R.framework/Versions/4.6-arm64/Resources/library’ ERROR: dependencies ‘flowCore’, ‘flowViz’ are not available for package ‘flowFP’ Perhaps try a variation of: install.packages(c('flowCore', 'flowViz')) * removing ‘/Library/Frameworks/R.framework/Versions/4.6-arm64/Resources/library/flowFP’