############################################################################## ############################################################################## ### ### Running command: ### ### /Library/Frameworks/R.framework/Resources/bin/R CMD build --keep-empty-dirs --no-resave-data flowFP ### ############################################################################## ############################################################################## * checking for file ‘flowFP/DESCRIPTION’ ... OK * preparing ‘flowFP’: * checking DESCRIPTION meta-information ... OK * cleaning src * running ‘cleanup’ * installing the package (it is needed to build vignettes) ----------------------------------- ERROR: dependencies ‘flowCore’, ‘flowViz’ are not available for package ‘flowFP’ Perhaps try a variation of: install.packages(c('flowCore', 'flowViz')) * removing ‘/private/var/folders/r0/l4fjk6cj5xj0j3brt4bplpl40000gt/T/RtmpZ9Twz0/Rinste717310c5e37/flowFP’ ----------------------------------- ERROR: package installation failed