Package: flowFP Version: 1.69.0 Maintainer: Herb Holyst , Wade Rogers MaintainerEmail: wade.rogers at spcytomics.com git_url: https://git.bioconductor.org/packages/flowFP git_branch: devel git_last_commit: ff6ba06 git_last_commit_date: 2025-10-29 10:03:05 -0500 (Wed, 29 Oct 2025)