Package: flowDensity Version: 1.45.0 Command: /home/biocbuild/bbs-3.23-bioc/R/bin/R CMD build --keep-empty-dirs --no-resave-data flowDensity StartedAt: 2025-11-16 17:39:38 -0500 (Sun, 16 Nov 2025) EndedAt: 2025-11-16 17:39:39 -0500 (Sun, 16 Nov 2025) EllapsedTime: 1.0 seconds RetCode: 0 Status: OK PackageFile: flowDensity_1.45.0.tar.gz PackageFileSize: 4.295 MiB