Package: flowDensity Version: 1.45.0 Command: /Library/Frameworks/R.framework/Resources/bin/R CMD INSTALL flowDensity StartedAt: 2025-11-13 15:07:30 -0500 (Thu, 13 Nov 2025) EndedAt: 2025-11-13 15:07:35 -0500 (Thu, 13 Nov 2025) EllapsedTime: 4.8 seconds RetCode: 0 Status: OK