Package: flowDensity Version: 1.45.0 Command: /Library/Frameworks/R.framework/Resources/bin/R CMD build --keep-empty-dirs --no-resave-data flowDensity StartedAt: 2025-11-12 16:16:01 -0500 (Wed, 12 Nov 2025) EndedAt: 2025-11-12 16:16:02 -0500 (Wed, 12 Nov 2025) EllapsedTime: 1.0 seconds RetCode: 0 Status: OK PackageFile: flowDensity_1.45.0.tar.gz PackageFileSize: 4.295 MiB