Package: flowDensity Version: 1.45.0 Command: rm -rf flowDensity.buildbin-libdir && mkdir flowDensity.buildbin-libdir && /Users/biocbuild/BBS/utils/build-universal.sh flowDensity_1.45.0.tar.gz /Library/Frameworks/R.framework/Resources/bin/R flowDensity.buildbin-libdir StartedAt: 2025-11-12 20:57:45 -0500 (Wed, 12 Nov 2025) EndedAt: 2025-11-12 20:57:46 -0500 (Wed, 12 Nov 2025) EllapsedTime: 1.0 seconds RetCode: 1 Status: ERROR PackageFile: None PackageFileSize: NA