Package: flowDensity Version: 1.45.0 Maintainer: Mehrnoush Malek MaintainerEmail: mehrmalek at gmail.com git_url: https://git.bioconductor.org/packages/flowDensity git_branch: devel git_last_commit: a180b49 git_last_commit_date: 2025-10-29 10:20:08 -0500 (Wed, 29 Oct 2025)