Package: flowCyBar Version: 1.47.0 Command: /home/biocbuild/bbs-3.23-bioc/R/bin/R CMD INSTALL flowCyBar StartedAt: 2025-11-14 15:07:15 -0500 (Fri, 14 Nov 2025) EndedAt: 2025-11-14 15:07:54 -0500 (Fri, 14 Nov 2025) EllapsedTime: 39.3 seconds RetCode: 0 Status: OK