Package: flowCyBar Version: 1.47.0 Command: /Library/Frameworks/R.framework/Resources/bin/R CMD INSTALL flowCyBar StartedAt: 2025-11-13 15:03:46 -0500 (Thu, 13 Nov 2025) EndedAt: 2025-11-13 15:04:06 -0500 (Thu, 13 Nov 2025) EllapsedTime: 20.3 seconds RetCode: 0 Status: OK