Package: flowCyBar Version: 1.47.0 Command: rm -rf flowCyBar.buildbin-libdir && mkdir flowCyBar.buildbin-libdir && /Users/biocbuild/BBS/utils/build-universal.sh flowCyBar_1.47.0.tar.gz /Library/Frameworks/R.framework/Resources/bin/R flowCyBar.buildbin-libdir StartedAt: 2025-11-13 23:37:52 -0500 (Thu, 13 Nov 2025) EndedAt: 2025-11-13 23:37:56 -0500 (Thu, 13 Nov 2025) EllapsedTime: 4.1 seconds RetCode: 0 Status: OK PackageFile: flowCyBar_1.47.0.tgz PackageFileSize: 534.5 KiB