Package: flowCyBar Version: 1.47.0 Maintainer: Joachim Schumann MaintainerEmail: joachim.schumann at ufz.de git_url: https://git.bioconductor.org/packages/flowCyBar git_branch: devel git_last_commit: 8c80d76 git_last_commit_date: 2025-10-29 10:18:56 -0500 (Wed, 29 Oct 2025)