Package: flowCut Version: 1.21.0 Command: /Library/Frameworks/R.framework/Resources/bin/R CMD INSTALL flowCut StartedAt: 2025-11-14 15:08:08 -0500 (Fri, 14 Nov 2025) EndedAt: 2025-11-14 15:08:12 -0500 (Fri, 14 Nov 2025) EllapsedTime: 3.9 seconds RetCode: 0 Status: OK