Package: flowCut Version: 1.21.0 Maintainer: Justin Meskas MaintainerEmail: justinmeskas at gmail.com git_url: https://git.bioconductor.org/packages/flowCut git_branch: devel git_last_commit: fc21b66 git_last_commit_date: 2025-10-29 10:59:45 -0500 (Wed, 29 Oct 2025)